{"text_format":"3","workbook":"xlsx","n_sheets":3,"sheets":["第56回","第56回選手登録用紙 ","プログラム注文用紙"],"not_rendered":{"defined_names":3},"read":"whole","date_system":"1900"}

{"sheet":"第56回","index":0,"n_rows":7,"n_cols":9,"rows_kept":7,"merged":[[1,1,1,5],[2,1,2,5],[3,1,3,5],[4,1,4,5],[5,1,5,5]]}
["男   子",1,"部",{"$nulls":5},"プログラムに掲載する名簿です。"]
["チーム名",{"$nulls":7},"色のついている部分に入力してください。"]
["コーチ",{"$nulls":7},"A1のセルは「男子」「女子」「壮年」を選択してください。"]
["Ａ・コーチ",{"$nulls":7},"B1のセルは「１～６」を選択してください。"]
["マネージャー"]
["帯同審判員",{"$nulls":7},"帯同審判の方は、チームスタッフ及びチームメンバーに限ります。ご注意ください。"]
["選手氏名","番号","身長","選手氏名","番号","身長"]

{"sheet":"第56回選手登録用紙 ","index":1,"n_rows":33,"n_cols":18,"rows_kept":33,"merged":[[0,0,0,16],[2,0,2,2],[2,3,2,7],[2,8,2,9],[2,10,2,11],[2,12,2,13],[3,0,3,2],[3,3,3,7],[3,8,3,9],[3,10,3,13],[4,0,4,2],[4,3,4,7],[4,8,4,9],[4,10,4,13],[5,0,5,2],[5,3,5,15],[6,1,6,5],[6,8,6,9],[6,10,6,11],[6,12,6,15],[7,1,7,5],[7,8,7,9],[7,10,7,11],[7,12,7,15],[8,1,8,5],[8,8,8,9],[8,10,8,11],[8,12,8,15],[9,1,9,5],[9,8,9,9],[9,10,9,11],[9,12,9,15],[10,1,10,5],[10,8,10,9],[10,10,10,11],[10,12,10,15],[11,1,11,5],[11,8,11,9],[11,10,11,11],[11,12,11,15],[12,1,12,5],[12,8,12,9],[12,10,12,11],[12,12,12,15],[13,1,13,5],[13,8,13,9],[13,10,13,11],[13,12,13,15],[14,1,14,5],[14,8,14,9],[14,10,14,11],[14,12,14,15],[15,1,15,5],[15,8,15,9],[15,10,15,11],[15,12,15,15],[16,1,16,5],[16,8,16,9],[16,10,16,11],[16,12,16,15],[17,1,17,5],[17,8,17,9],[17,10,17,11],[17,12,17,15],[18,1,18,5],[18,8,18,9],[18,10,18,11],[18,12,18,15],[19,1,19,5],[19,8,19,9],[19,10,19,11],[19,12,19,15],[20,1,20,5],[20,8,20,9],[20,10,20,11],[20,12,20,15],[21,1,21,5],[21,8,21,9],[21,10,21,11],[21,12,21,15],[22,1,22,5],[22,8,22,9],[22,10,22,11],[22,12,22,15],[23,1,23,5],[23,8,23,9],[23,10,23,11],[23,12,23,15],[24,1,24,5],[24,8,24,9],[24,10,24,11],[24,12,24,15],[25,1,25,5],[25,8,25,9],[25,10,25,11],[25,12,25,15],[26,1,26,5],[27,1,27,5],[28,1,28,5],[29,1,29,5],[30,1,30,5],[30,8,30,9],[30,10,30,11],[30,12,30,15],[32,0,32,15]]}
["　第５６回 県リーグ戦選手登録用紙　　"]
[{"$nulls":9},"提出期限　令和 ７年 １ 月 ３１ 日"]
["チーム名",null,null,{"$f":"第56回!B2","v":0},{"$nulls":4},"性　　別：",null,{"$f":"第56回!A1","v":"男   子"},null,"所属部",null,{"$f":"第56回!B1","v":1},"部",null,"色のついている部分に追加入力してください。"]
["コーチ名",null,null,{"$f":"第56回!B3","v":0},{"$nulls":4},"コーチＩＤ",{"$nulls":6},"級","　","チーム名、所属部、コーチ名、A・コーチ名、マネージャー名、"]
["Ａ・コーチ名",null,null,{"$f":"第56回!B4","v":0},{"$nulls":4},"コーチＩＤ",{"$nulls":6},"級",null,"選手氏名、番号、身長については、プログラム記載用選手名簿に入力いただいた内容が"]
["マネージャー名",null,null,{"$f":"第56回!B5","v":0},{"$nulls":13},"自動で表記されるようになっています。"]
[null,"選　手　氏　名",{"$nulls":4},"番号","身   長","2024年4月1日\n現在年齢",null,"他チ－ムとの関係",null,"JBA登録選手ID"]
[1,{"$f":"第56回!A8","v":0},{"$nulls":4},{"$f":"第56回!B8","v":0},{"$f":"第56回!C8","v":0}]
[2,{"$f":"第56回!A9","v":0},{"$nulls":4},{"$f":"第56回!B9","v":0},{"$f":"第56回!C9","v":0}]
[3,{"$f":"第56回!A10","v":0},{"$nulls":4},{"$f":"第56回!B10","v":0},{"$f":"第56回!C10","v":0}]
[4,{"$f":"第56回!A11","v":0},{"$nulls":4},{"$f":"第56回!B11","v":0},{"$f":"第56回!C11","v":0}]
[5,{"$f":"第56回!A12","v":0},{"$nulls":4},{"$f":"第56回!B12","v":0},{"$f":"第56回!C12","v":0}]
[6,{"$f":"第56回!A13","v":0},{"$nulls":4},{"$f":"第56回!B13","v":0},{"$f":"第56回!C13","v":0}]
[7,{"$f":"第56回!A14","v":0},{"$nulls":4},{"$f":"第56回!B14","v":0},{"$f":"第56回!C14","v":0}]
[8,{"$f":"第56回!A15","v":0},{"$nulls":4},{"$f":"第56回!B15","v":0},{"$f":"第56回!C15","v":0}]
[9,{"$f":"第56回!A16","v":0},{"$nulls":4},{"$f":"第56回!B16","v":0},{"$f":"第56回!C16","v":0}]
[10,{"$f":"第56回!A17","v":0},{"$nulls":4},{"$f":"第56回!B17","v":0},{"$f":"第56回!C17","v":0}]
[11,{"$f":"第56回!A18","v":0},{"$nulls":4},{"$f":"第56回!B18","v":0},{"$f":"第56回!C18","v":0}]
[12,{"$f":"第56回!A19","v":0},{"$nulls":4},{"$f":"第56回!B19","v":0},{"$f":"第56回!C19","v":0}]
[13,{"$f":"第56回!D8","v":0},{"$nulls":4},{"$f":"第56回!E8","v":0},{"$f":"第56回!F8","v":0}]
[14,{"$f":"第56回!D9","v":0},{"$nulls":4},{"$f":"第56回!E9","v":0},{"$f":"第56回!F9","v":0}]
[15,{"$f":"第56回!D10","v":0},{"$nulls":4},{"$f":"第56回!E10","v":0},{"$f":"第56回!F10","v":0}]
[16,{"$f":"第56回!D11","v":0},{"$nulls":4},{"$f":"第56回!E11","v":0},{"$f":"第56回!F11","v":0}]
[17,{"$f":"第56回!D12","v":0},{"$nulls":4},{"$f":"第56回!E12","v":0},{"$f":"第56回!F12","v":0}]
[18,{"$f":"第56回!D13","v":0},{"$nulls":4},{"$f":"第56回!E13","v":0},{"$f":"第56回!F13","v":0}]
[19,{"$f":"第56回!D14","v":0},{"$nulls":4},{"$f":"第56回!E14","v":0},{"$f":"第56回!F14","v":0}]
[20,{"$f":"第56回!D15","v":0},{"$nulls":4},{"$f":"第56回!E15","v":0},{"$f":"第56回!F15","v":0}]
[21,{"$f":"第56回!D16","v":0},{"$nulls":4},{"$f":"第56回!E16","v":0},{"$f":"第56回!F16","v":0}]
[22,{"$f":"第56回!D17","v":0},{"$nulls":4},{"$f":"第56回!E17","v":0},{"$f":"第56回!F17","v":0}]
[23,{"$f":"第56回!D18","v":0},{"$nulls":4},{"$f":"第56回!E18","v":0},{"$f":"第56回!F18","v":0}]
[24,{"$f":"第56回!D19","v":0},{"$nulls":4},{"$f":"第56回!E19","v":0},{"$f":"第56回!F19","v":0}]
[]
["　＊コーチまたはＡ・コーチのいずれかが、ＪＢＡ公認コーチＥ級以上を取得されていればOKです。"]

{"sheet":"プログラム注文用紙","index":2,"n_rows":10,"n_cols":12,"rows_kept":10,"merged":[[0,0,0,7],[1,3,1,7],[2,0,2,1],[3,0,3,1],[3,2,3,7],[4,0,4,1],[4,2,4,7],[5,0,5,1],[5,4,5,7],[6,0,6,1],[6,4,6,7]]}
["　　　　　第５６回   県リーグ戦プログラム注文用紙"]
[{"$nulls":3},"提出期限　令和  ７ 年 １ 月 ３１ 日"]
["チーム名",null,{"$f":"第56回!B2","v":0},"性別",{"$f":"第56回!A1","v":"男   子"},"所属部",{"$f":"第56回!B1","v":1},"部"]
["代表者名",{"$nulls":7},"色のついている部分に追加入力してください。"]
["連絡先（電話）"]
["必要冊数\n（無料）",null,null,"冊","＊１〜１１冊の間で記入してください",{"$nulls":3},"必要冊数は必ず入力願います"]
["注文冊数\n（有料）",null,null,"冊","＊１冊４５０円です"]
["＊チームには１１部以下の必要冊数を無料配布します。",{"$nulls":10},"　"]
["　 それ以上必要な場合に追加注文してください。"]
["＊お支払いは登録料等とまとめてお振り込みください。　　"]